BEGIN:VCALENDAR
VERSION:2.0
PRODID:icalendar-ruby
CALSCALE:GREGORIAN
METHOD:PUBLISH
BEGIN:VEVENT
DTSTAMP:20260420T113624Z
UID:12-985907@nycgrace.org
DTSTART:20260926T230000Z
DTEND:20260927T000000Z
CLASS:PUBLIC
CREATED:20260420T024404
DESCRIPTION:Young Adults Bible Study Fellowship
LAST-MODIFIED:20260420T024404
LOCATION:Church Office: 70-50 Austin St. 121LL
SUMMARY:Young Adults Bible Study Fellowship
URL;VALUE=URI:https://www.nycgrace.org/events/young-adults-bible-study-fell
 owship/2026-09-26
ATTACH;FILENAME=hands-g6d4c86f2a_1920 (1).jpg;FMTTYPE=image/jpeg:https://dq
 5pwpg1q8ru0.cloudfront.net/2023/09/03/19/32/05/0b6efb10-7f40-468e-a92f-703
 8a5fed3f1/hands-g6d4c86f2a_1920%20(1).jpg
END:VEVENT
END:VCALENDAR
